BEGIN:VCALENDAR
VERSION:2.0
PRODID:icalendar-ruby
CALSCALE:GREGORIAN
METHOD:PUBLISH
BEGIN:VEVENT
DTSTAMP:20260420T185042Z
UID:25-483865@faithunited121.tithelysetup5.com
DTSTART:20260930T000000Z
DTEND:20260930T010000Z
CLASS:PUBLIC
CREATED:20260420T124115
DESCRIPTION:
LAST-MODIFIED:20260420T124115
LOCATION:Fellowship Hall
SUMMARY:Men's AA Group
URL;VALUE=URI:https://www.fargofaithumc.org/events/mens-aa-group/2026-09-29
ATTACH;FILENAME=aa-meetings-logo.png;FMTTYPE=image/png:https://dq5pwpg1q8ru
 0.cloudfront.net/2026/01/26/14/45/22/1fc1ff89-d0c3-4348-8f20-5579bb397184/
 aa-meetings-logo.png
END:VEVENT
END:VCALENDAR
