BEGIN:VCALENDAR
VERSION:2.0
PRODID:icalendar-ruby
CALSCALE:GREGORIAN
METHOD:PUBLISH
BEGIN:VEVENT
DTSTAMP:20260419T212311Z
UID:6-480539@faithunited121.tithelysetup5.com
DTSTART:20260830T150000Z
DTEND:20260830T160000Z
CLASS:PUBLIC
CREATED:20260419T160407
DESCRIPTION:
LAST-MODIFIED:20260419T160407
LOCATION:Sanctuary
SUMMARY:Worship Service
URL;VALUE=URI:https://www.fargofaithumc.org/events/worship-service--5/2026-
 08-30
END:VEVENT
END:VCALENDAR
