BEGIN:VCALENDAR
VERSION:2.0
PRODID:icalendar-ruby
CALSCALE:GREGORIAN
METHOD:PUBLISH
BEGIN:VEVENT
DTSTAMP:20260419T225135Z
UID:6-480540@faithunited121.tithelysetup5.com
DTSTART:20260906T150000Z
DTEND:20260906T160000Z
CLASS:PUBLIC
CREATED:20260419T160407
DESCRIPTION:
LAST-MODIFIED:20260419T160407
LOCATION:Sanctuary
SUMMARY:Worship Service
URL;VALUE=URI:https://www.fargofaithumc.org/events/worship-service--5/2026-
 09-06
END:VEVENT
END:VCALENDAR
