BEGIN:VCALENDAR
VERSION:2.0
PRODID:icalendar-ruby
CALSCALE:GREGORIAN
METHOD:PUBLISH
BEGIN:VEVENT
DTSTAMP:20260420T042002Z
UID:6-481043@faithunited121.tithelysetup5.com
DTSTART:20261004T150000Z
DTEND:20261004T160000Z
CLASS:PUBLIC
CREATED:20260419T194553
DESCRIPTION:
LAST-MODIFIED:20260419T194553
LOCATION:Sanctuary
SUMMARY:Worship Service
URL;VALUE=URI:https://www.fargofaithumc.org/events/worship-service--5/2026-
 10-04
END:VEVENT
END:VCALENDAR
