BEGIN:VCALENDAR
VERSION:2.0
PRODID:icalendar-ruby
CALSCALE:GREGORIAN
METHOD:PUBLISH
BEGIN:VEVENT
DTSTAMP:20260420T072533Z
UID:6-481544@faithunited121.tithelysetup5.com
DTSTART:20261018T150000Z
DTEND:20261018T160000Z
CLASS:PUBLIC
CREATED:20260419T232247
DESCRIPTION:
LAST-MODIFIED:20260419T232247
LOCATION:Sanctuary
SUMMARY:Worship Service
URL;VALUE=URI:https://www.fargofaithumc.org/events/worship-service--5/2026-
 10-18
END:VEVENT
END:VCALENDAR
