BEGIN:VCALENDAR
VERSION:2.0
PRODID:icalendar-ruby
CALSCALE:GREGORIAN
METHOD:PUBLISH
BEGIN:VEVENT
DTSTAMP:20260420T083632Z
UID:6-482044@faithunited121.tithelysetup5.com
DTSTART:20261025T150000Z
DTEND:20261025T160000Z
CLASS:PUBLIC
CREATED:20260420T030015
DESCRIPTION:
LAST-MODIFIED:20260420T030015
LOCATION:Sanctuary
SUMMARY:Worship Service
URL;VALUE=URI:https://www.fargofaithumc.org/events/worship-service--5/2026-
 10-25
END:VEVENT
END:VCALENDAR
