BEGIN:VCALENDAR
VERSION:2.0
PRODID:icalendar-ruby
CALSCALE:GREGORIAN
METHOD:PUBLISH
BEGIN:VEVENT
DTSTAMP:20260421T205943Z
UID:9-487120@faithunited121.tithelysetup5.com
DTSTART:20261014T233000Z
DTEND:20261015T003000Z
CLASS:PUBLIC
CREATED:20260421T152530
DESCRIPTION:
LAST-MODIFIED:20260421T152530
LOCATION:Youth Room
SUMMARY:Youth Group
URL;VALUE=URI:https://www.fargofaithumc.org/events/youth-group/2026-10-14
ATTACH;FILENAME=youthgroup.jpg;FMTTYPE=image/jpeg:https://dq5pwpg1q8ru0.clo
 udfront.net/2026/01/26/17/09/54/d1f7937c-ec1c-49a1-9e0d-9baa30c73cc1/youth
 group.jpg
END:VEVENT
END:VCALENDAR
